BEGIN:VCALENDAR
VERSION:2.0
PRODID:-//Roberta Villa | Psychogénéalogie | Tarot - ECPv6.15.14//NONSGML v1.0//EN
CALSCALE:GREGORIAN
METHOD:PUBLISH
X-WR-CALNAME:Roberta Villa | Psychogénéalogie | Tarot
X-ORIGINAL-URL:https://www.roberta-villa.com
X-WR-CALDESC:Évènements pour Roberta Villa | Psychogénéalogie | Tarot
REFRESH-INTERVAL;VALUE=DURATION:PT1H
X-Robots-Tag:noindex
X-PUBLISHED-TTL:PT1H
BEGIN:VTIMEZONE
TZID:Europe/Paris
BEGIN:DAYLIGHT
TZOFFSETFROM:+0100
TZOFFSETTO:+0200
TZNAME:CEST
DTSTART:20210328T010000
END:DAYLIGHT
BEGIN:STANDARD
TZOFFSETFROM:+0200
TZOFFSETTO:+0100
TZNAME:CET
DTSTART:20211031T010000
END:STANDARD
BEGIN:DAYLIGHT
TZOFFSETFROM:+0100
TZOFFSETTO:+0200
TZNAME:CEST
DTSTART:20220327T010000
END:DAYLIGHT
BEGIN:STANDARD
TZOFFSETFROM:+0200
TZOFFSETTO:+0100
TZNAME:CET
DTSTART:20221030T010000
END:STANDARD
BEGIN:DAYLIGHT
TZOFFSETFROM:+0100
TZOFFSETTO:+0200
TZNAME:CEST
DTSTART:20230326T010000
END:DAYLIGHT
BEGIN:STANDARD
TZOFFSETFROM:+0200
TZOFFSETTO:+0100
TZNAME:CET
DTSTART:20231029T010000
END:STANDARD
BEGIN:DAYLIGHT
TZOFFSETFROM:+0100
TZOFFSETTO:+0200
TZNAME:CEST
DTSTART:20240331T010000
END:DAYLIGHT
BEGIN:STANDARD
TZOFFSETFROM:+0200
TZOFFSETTO:+0100
TZNAME:CET
DTSTART:20241027T010000
END:STANDARD
BEGIN:DAYLIGHT
TZOFFSETFROM:+0100
TZOFFSETTO:+0200
TZNAME:CEST
DTSTART:20250330T010000
END:DAYLIGHT
BEGIN:STANDARD
TZOFFSETFROM:+0200
TZOFFSETTO:+0100
TZNAME:CET
DTSTART:20251026T010000
END:STANDARD
END:VTIMEZONE
BEGIN:VEVENT
DTSTART;TZID=Europe/Paris:20240414T100000
DTEND;TZID=Europe/Paris:20240414T170000
DTSTAMP:20260424T102020
CREATED:20240325T133951Z
LAST-MODIFIED:20240325T133951Z
UID:3045-1713088800-1713114000@www.roberta-villa.com
SUMMARY:LE REFERENTIEL DE NAISSANCE -Tarot de Marseille par Roberta Villa
DESCRIPTION:Votre date de naissance parle de vous. \nVenez découvrir votre Référentiel de Naissance à travers le Tarot de Marseille. Il vous permettra de mieux vous connaitre et comprendre les autres. . \nLe thème de Naissance est un outil précieux qui permet de travailler sur ses difficultés et découvrir son potentiel. C’est un outil fabuleux de développement personnel et un miroir fidèle de nous. Il nous aide à comprendre qui nous sommes profondément et à cultiver notre potentiel et nos talents. Il peut également nous aider à nous orienter au niveau scolaire ou professionnel. \nLes cartes de notre thème permettent de restaurer le dialogue entre différentes parties de soi-même pour retrouver l’énergie créatrice que nous portons en nous. \nDes fiches récapitulatives sur les Arcanes Majeurs seront distribuées aux participants \nPrix : 100€ \nPROGRAMME: \n\ntirage du jour\nles 5 premières maisons du Thème de Naissance\ndécouvrir sa mission de vie
URL:https://www.roberta-villa.com/event/le-referentiel-de-naissance-tarot-de-marseille-par-roberta-villa/
LOCATION:Mon Cabinet\, 62 Boulevard Gambetta\, NICE\, 06000\, France
ORGANIZER;CN="Roberta Villa":MAILTO:robertavillapsycho@gmail.com
END:VEVENT
BEGIN:VEVENT
DTSTART;TZID=Europe/Paris:20240218T100000
DTEND;TZID=Europe/Paris:20240218T170000
DTSTAMP:20260424T102020
CREATED:20240122T163532Z
LAST-MODIFIED:20240122T163532Z
UID:3042-1708250400-1708275600@www.roberta-villa.com
SUMMARY:ATELIER PSYCHO-GENEALOGIE
DESCRIPTION:LA CONCEPTION ET LA NAISSANCE EN PSYCHO-GENEALOGIE \nL’héritage familial est dans nos cellules dès la conception \nDans cet atelier vous aller comprendre quel est le projet sens (le programme inconscient) que votre famille vous a transmis avant même votre conception. \nProgramme de la journée: \n\nle projet sens\nle déroulement de  la grossesse\nle jour de la naissance: évènements familiaux concomitants\nla date de naissance est la même que celle d’un ancêtre\nsynchronicité entre date de naissance et date de décès un membre de la famille\n l’enfant conçu hors mariage\nl’enfant de remplacement\n le syndrome du jumeau perdu\nexercices pratique pour effacer les mémoires cellulaires négatives\n\nAtelier animé par \nROBERTA VILLA psycho-généalogiste et SANDRA GALANTE énergéticienne et medium \n  \n 
URL:https://www.roberta-villa.com/event/atelier-psycho-genealogie-2/
LOCATION:Mon Cabinet\, 62 Boulevard Gambetta\, NICE\, 06000\, France
ORGANIZER;CN="Roberta Villa":MAILTO:robertavillapsycho@gmail.com
END:VEVENT
BEGIN:VEVENT
DTSTART;TZID=Europe/Paris:20231015T100000
DTEND;TZID=Europe/Paris:20231015T180000
DTSTAMP:20260424T102020
CREATED:20230919T182725Z
LAST-MODIFIED:20230919T183223Z
UID:3038-1697364000-1697392800@www.roberta-villa.com
SUMMARY:LES DIFFÉRENTS TYPES DE TRIADES : père-mère-enfant
DESCRIPTION:La triade est la relation primordiale entre père\, mère et enfant.  \nL’enfant se forge dans cette triade pendant les premières années de sa vie et son destin en sera fortement conditionné.  \nAu cours de cette journée nous allons analyser les différentes dynamiques père-mère-enfant : \nPar exemple : entente entre 2 membres de la triade avec exclusion du 3ème\, l’enfant qui doit faire le pont entre ses parents\, la désunion totale entre les 3 membres\, etc. \n Le mode de fonctionnement de la triade va avoir un impact dans la vie future de l’enfant\, notamment au niveau de ses relations affectives et du choix de ses partenaires de vie.  \nUne étude de cas concrets sera proposée. \n  \nInscriptions et renseignements au :  06 62 59 99 43 \nPrix : 100 €
URL:https://www.roberta-villa.com/event/les-differents-types-de-triades/
LOCATION:Mon Cabinet\, 62 Boulevard Gambetta\, NICE\, 06000\, France
CATEGORIES:Psychogénéalogie
ORGANIZER;CN="Roberta Villa":MAILTO:robertavillapsycho@gmail.com
END:VEVENT
BEGIN:VEVENT
DTSTART;TZID=Europe/Paris:20230521T100000
DTEND;TZID=Europe/Paris:20230521T180000
DTSTAMP:20260424T102020
CREATED:20230502T193933Z
LAST-MODIFIED:20230502T195057Z
UID:3034-1684663200-1684692000@www.roberta-villa.com
SUMMARY:ATELIER PSYCHO-GENEALOGIE
DESCRIPTION:1er MODULE : LA CONCEPTION ET LA NAISSANCE\nPremier module d’une série d’ateliers qui visent à explorer les liens transgénérationnels et les mémoires inconscientes familiales.  \nA travers l’étude des concepts fondamentaux de la psycho-généalogie vous pourrez mieux comprendre le sens de certains évènements de votre vie. En retraçant votre histoire familiale\, vous découvrirez l’influence inconsciente de l’histoire de vos ancêtres sur votre parcours de vie. \nA travers ce nouveau regard\, vous prendrez conscience des mécanismes inconscients de répétition d’une génération à l’autre.  \nCe premier module est axé sur les thèmes de la conception et de la naissance. Il vise à explorer les programmations inconscientes que nous portons en nous depuis le moment de notre conception\, depuis l’histoire de nos parents\, de leurs ancêtres et du contexte historique. Il s’agit d’une empreinte qui va conditionner toute notre vie et qui est souvent source de souffrance ou de comportements inadaptés que nous pouvons transformer.  \nLa prise de conscience est le premier pas vers la libération et le changement.  \nPROGRAMME DE LA JOURNEE :\n\nHistorique de la psycho-généalogie\nTransmission consciente et inconsciente\nLes loyautés invisibles\nLe projet-sens\nLa conception et le temps généalogique\nLa naissance :\n– conditions de la naissance\n– la date de naissance \n\n\nL’enfant de remplacement\nProblèmes d’infertilité/stérilité\n\n Stage ouvert à tous. Il n’est pas nécessaire d’avoir effectué des recherches généalogiques pour y participer. \nHoraires : 10H00-18H00 \nPrix : 100€  \nPlaces limitées. Réservation obligatoire
URL:https://www.roberta-villa.com/event/atelier-psycho-genealogie/
CATEGORIES:Psychogénéalogie
ATTACH;FMTTYPE=image/jpeg:https://www.roberta-villa.com/wp-content/uploads/2022/03/20220302_133948-copie-scaled.jpg
ORGANIZER;CN="Roberta Villa":MAILTO:robertavillapsycho@gmail.com
END:VEVENT
BEGIN:VEVENT
DTSTART;TZID=Europe/Paris:20230226T133000
DTEND;TZID=Europe/Paris:20230422T173000
DTSTAMP:20260424T102020
CREATED:20230220T213409Z
LAST-MODIFIED:20230220T213659Z
UID:3029-1677418200-1682184600@www.roberta-villa.com
SUMMARY:Cycle d'ateliers Tarot - Numérologie
DESCRIPTION:Le sens caché de votre date de naissance\nUne méthode facile et efficace pour mieux se connaitre et connaitre les autres \nNotre date de naissance parle de nous.  \nSavoir déchiffrer sa date de naissance permet de donner plus de sens à sa vie et d’agir en accord avec soi-même. \nJe vous propose une série de 6 ateliers au cours desquels vous apprendrez à monter un Thème de Naissance avec les outils de la Numérologie Sacrée et les images symboliques du Tarot. \nAu cours de ces rencontres\, je vous guiderai dans l’interprétation des chiffres de votre date de naissance qui conditionnent votre parcours de vie.  \nQuel est votre chemin de vie ?\nComment l’accomplir au niveau personnel et professionnel ?\nComment réaliser au mieux votre potentiel ? \nQuelles sont les préoccupations constantes de votre mental ? \nQuels sont les défis récurrents qui se présentent à vous ?\nSur quelles qualités vous appuyer pour les surmonter ?\nQuelles sont les mémoires familiales qui vous empêchent d’avancer ?\nQuelle est votre vocation profonde ? \nLe Thème de Naissance est aussi un outil fabuleux pour les thérapeutes et les personnes travaillant dans la relation d’aide.  \nLes ateliers sont ouverts à tous. Un support sur la numérologie et la symbolique du Tarot sera distribué aux participants. \n  \nPrix total 300€  Payement en 3 chèques (règlement à remettre le 1er jour) ou en espèces (avec dépôt de chèque  d’engagement) \nPrix à l’unité : 55€ \nLieu : Maison II Mougins \n12 Allée Beausoleil MOUGINS\nMaison 2 concept \nPour tous renseignements : 06.62.59.99.43 \nAteliers animés par Roberta Villa\, thérapeute en psycho-généalogie\, diplômée en philosophie et en psychologie\, formatrice en Tarot\, Numérologie et psycho-généalogie en France et en Italie.  \nwww.roberta-villa.com \nPour obtenir le programme détaillé\, merci de contacter directement Roberta : roberta.vIlla@free.fr   \n  \nProgramme\n\n1ERE PARTIE –   DIMANCHE 26 FEVRIER 13h30- 18H30 \n\nPetite méditation d’ouverture\nTirage de la journée pour chaque participant\nLa symbolique des Nombres de 1 à 9\nDu Bateleur au Mat : le parcours évolutif de l’âme à travers les 22 Arcanes Majeurs\nDécouvrir son Chemin de Vie : quelle est ta mission existentielle et professionnelle ? Comment la réaliser au mieux ? \n\n2EME PARTIE-  SAMEDI 18 MARS 13h30- 18h30 \n\nTirage du jour\nDe la maison 1 à la maison 5 : la matrice du Thème de Naissance\nL’empreinte du jour de naissance : ta personnalité\, ton image sociale\, ton caractère\nLes émotions et les manques\nLes inquiétudes de ton mental\nLes problématiques récurrentes de ta vie\nMéditation de nettoyage du mental\n\n3EME PARTIE-  SAMEDI 22 AVRIL 13h30-18h30 \n\nTirage du jour\nDe la maison 6 à la maison 8\nTes points forts et tes point faibles\nLes zones fragiles de ton corps\nTa pierre de protection\nLes vibrations de ton année personnelle : influx des énergies annuelles dans ta vie personnelle. \nLe cycle de 9 ans\, année par année\n\n4EME PARTIE- date à définir \n\nTirage du jour\nMaison 9 et Maison 10\nTa motivation profonde\nTes mécanismes inconscients de répétition : en prendre conscience pour le dépasser\nMéditation de connexion à ton Moi Supérieur\n\n\n5EME PARTIE- date à définir \n\nTirage du jour\nMaison 11 et Maison 12\nMémoires transgénérationnelles : la programmation parentale inconsciente/ Les mémoires familiales qui te bloquent\nRituel de déprogrammations des mémoires généalogiques\nTon idéal de vie\, le phare de ton thème\nMéditation : la traversé du pont vers le futur\nDécouvre quelle est ta pierre de guérison\n\n6EME PARTIE- date à définir \n\nTirage du jour\nMaison 13 : la synthèse du Thème de Naissance\nTravail personnel sur l’Arcane de synthèse de ton thème\nAtelier créatif par le dessin (art thérapie)\nExercices pratiques
URL:https://www.roberta-villa.com/event/cycle-dateliers-tarot-numerologie/
LOCATION:Maison2concept\, 12 allée Beausoleil\, MOUGINS\, 06250\, France
CATEGORIES:Formation Tarot de Marseille
ATTACH;FMTTYPE=image/jpeg:https://www.roberta-villa.com/wp-content/uploads/2022/03/20220314_164034-1.jpg
END:VEVENT
BEGIN:VEVENT
DTSTART;TZID=Europe/Paris:20221023T100000
DTEND;TZID=Europe/Paris:20221023T180000
DTSTAMP:20260424T102020
CREATED:20220919T204202Z
LAST-MODIFIED:20220919T204229Z
UID:3018-1666519200-1666548000@www.roberta-villa.com
SUMMARY:Apprendre à lire le Tarot de Marseille - 1ère partie
DESCRIPTION:Un parcours initiatique à travers les 22 Arcanes Majeurs   \nLe Tarot de Marseille est un outil fabuleux à la portée de tout le monde\, qui nous permet de mieux connaître nous-même et les autres.   \n Utilisé comme art divinatoire depuis des siècles\, il est aussi un moyen d’évolution personnelle et de transformation profonde.  \nQuand nous sommes désorientés\, le Tarot nous aide à trouver les réponses à nos doutes et à retrouver le chemin.  \nJe vous accompagnerai au cours de ces rencontres dans un voyage magique à travers les images du Tarot. Vous apprendrez à interpréter la symbolique de chaque carte\, au niveau spirituel\, psychologique et matériel.  \nAu cours de ces journées\, nous aurons l’occasion d’explorer différentes méthodes de tirages\, en réponse aux questions posées par les participants. \nPROGRAMME de la journée  \n\nLe parcours évolutif de l’âme à travers les 22 Arcanes Majeurs \nVoyage initiatique à travers les 7 premières lames\nInterprétation de chaque carte au niveau matériel\, corporel\, psychologique et spirituel\nNotions essentielles de numérologie\nConnaître et vivre son Chemin de Vie\nLes principales méthodes de tirages\n\nRéservation : Maeva : 06.05.49.72.42  ou Roberta : 06.62.59.99.43 \nPrix : 100 € la journée de stage \nLieu : Maison II Concept\, 12 av. Beausoleil\, 06250 Mougins \n\n\n\n\n\n\n\n\n\nRéservez maintenant et payez sur place en m’envoyant votre demande de réservation par e-mail  \n\n\n  \n\n\n\n Votre nom\n \n \n Votre e-mail\n \n \n Objet\n \n \n Votre message (facultatif)\n \n \n\n \n\n\n\nOU payez directement en ligne en achetant un billet
URL:https://www.roberta-villa.com/event/apprendre-lire-tarot-marseille/
LOCATION:Maison2concept\, 12 allée Beausoleil\, MOUGINS\, 06250\, France
CATEGORIES:Formation Tarot de Marseille
ATTACH;FMTTYPE=image/jpeg:https://www.roberta-villa.com/wp-content/uploads/2022/03/20220314_164034-1.jpg
ORGANIZER;CN="Roberta Villa":MAILTO:robertavillapsycho@gmail.com
END:VEVENT
BEGIN:VEVENT
DTSTART;TZID=Europe/Paris:20221008T100000
DTEND;TZID=Europe/Paris:20221008T180000
DTSTAMP:20260424T102020
CREATED:20220919T203416Z
LAST-MODIFIED:20220919T203613Z
UID:3013-1665223200-1665252000@www.roberta-villa.com
SUMMARY:Journée de pratique du Tarot
DESCRIPTION:Cette journée est consacrée à la pratique du Tarot : tirages et interprétation du Thème de Naissance   \nL’atelier est ouvert à tous\, pratiquants ou débutants en Tarot. Vous apprendrez différentes méthodes de tirages\, comment calculer et interpréter son chemin de vie avec le tarot et la numérologie. Chaque participant pourra poser les questions qu’il souhaite\, le Tarot nous donnera les réponses.  \nPour les personnes ne connaissant pas la symbolique du Tarot\, un support sera distribué. \n\n\n\n\n\n\n\n\n\nRéservez maintenant et payez sur place en m’envoyant votre demande de réservation par e-mail  \n\n\n  \n\n\n\n Votre nom\n \n \n Votre e-mail\n \n \n Objet\n \n \n Votre message (facultatif)\n \n \n\n \n\n\n\nOU payez directement en ligne en achetant un billet
URL:https://www.roberta-villa.com/event/journee-pratique-tarot/
LOCATION:ARMMONIE\, 21 Avenue du Grand Cavalier\, Antibes\, 06600\, France
CATEGORIES:Formation Tarot de Marseille
ATTACH;FMTTYPE=image/jpeg:https://www.roberta-villa.com/wp-content/uploads/2022/03/20220314_164034-1.jpg
ORGANIZER;CN="Roberta Villa":MAILTO:robertavillapsycho@gmail.com
END:VEVENT
BEGIN:VEVENT
DTSTART;TZID=Europe/Paris:20220710T100000
DTEND;TZID=Europe/Paris:20220710T180000
DTSTAMP:20260424T102020
CREATED:20220627T201005Z
LAST-MODIFIED:20220627T201550Z
UID:2970-1657447200-1657476000@www.roberta-villa.com
SUMMARY:Stage de numérologie et Tarot de Marselle
DESCRIPTION:MATIN : Les 3 cycles de vie dans son Thème de Naissance : les étapes fondamentales de notre existence. De nouveaux horizons du Référentiel de Naissance \nAPRES-MIDI : Pratique de tirages \nLe stage est ouvert à tous\, débutant et avancés \n\n\n\n\n\n\n\n\n\nRéservez maintenant et payez sur place en m’envoyant votre demande de réservation par e-mail  \n\n\n  \n\n\n\n Votre nom\n \n \n Votre e-mail\n \n \n Objet\n \n \n Votre message (facultatif)\n \n \n\n \n\n\n\nOU payez directement en ligne en achetant un billet
URL:https://www.roberta-villa.com/event/stage-numerologie-tarot-de-marseille/
LOCATION:Mon Cabinet\, 62 Boulevard Gambetta\, NICE\, 06000\, France
CATEGORIES:Formation Tarot de Marseille
ATTACH;FMTTYPE=image/jpeg:https://www.roberta-villa.com/wp-content/uploads/2022/03/20220314_164034-1.jpg
ORGANIZER;CN="Roberta Villa":MAILTO:robertavillapsycho@gmail.com
END:VEVENT
BEGIN:VEVENT
DTSTART;TZID=Europe/Paris:20220514T100000
DTEND;TZID=Europe/Paris:20220514T180000
DTSTAMP:20260424T102020
CREATED:20220405T205516Z
LAST-MODIFIED:20220405T212702Z
UID:2923-1652522400-1652551200@www.roberta-villa.com
SUMMARY:Apprendre à interpréter le Tarot de Marseille\, le 14 mai
DESCRIPTION:Le Tarot de Marseille\, connu comme outil de divination depuis le XV siècle\, est aussi et surtout un support précieux d’évolution personnelle. Au cours de ces ateliers vous apprendrez à décoder la symbolique des Arcanes Majeurs du Tarot et à interpréter les messages qu’ils nous livrent. Cela vous permettra de développer davantage votre intuition et trouver en vous\, à travers les images du Tarot\, les réponses à vos questionnements et vos doutes. Chaque stagiaire aura la possibilité\, s’il le souhaite\, de faire des tirages personnels\, qui seront interprétés avec l’aide et la participation de tout le groupe. \n1ère partie : Initiation aux Arcanes Majeurs du Tarot\n\nSe familiariser avec les images des Arcanes Majeurs\nPremier axe d’initiation : du Bateleur au Chariot. Symbolique de chaque lame ; son interprétation au niveau corporel\, matériel\, affectif\, psychologique et spirituel\nEtude du nombre associé à chaque Arcane\nCalculer et comprendre son Chemin de Vie\nTirage à une carte\n\n2ème partie : Découvrir le Thème de Naissance par le Tarot\n\nDeuxième axe d’initiation : de la Justice à Tempérance. Symbolique de chaque lame ; son interprétation au niveau corporel\, matériel\, affectif\, psychologique et spirituel\nEtude du nombre associé à chaque Arcane\nDécouverte de son Thème de Naissance\nTirage en croix\nTirage à trois cartes\n\n3ème partie : Pratique de tirages du Tarot de Marseille  \n\nTroisième axe d’initiation : du Diable au Mat. Symbolique de chaque lame ; son interprétation au niveau corporel\, matériel\, affectif\, psychologique et spirituel\nTirage du héros\nPratique de tirages : entrainement à l’interprétation des cartes pour des questions d’ordres divers\n\n\n\n\n\n\n\n\n\n\n \n\n\n\n\n\n\nRéservez maintenant et payez sur place en m’envoyant votre demande de réservation par e-mail\n\n  \n\n\n\n Votre nom\n \n \n Votre e-mail\n \n \n Objet\n \n \n Votre message (facultatif)\n \n \n\n \n\n\nOU payez directement en ligne en achetant un billet
URL:https://www.roberta-villa.com/event/apprendre-a-interpreter-tarot-de-marseille/
LOCATION:Mon Cabinet\, 62 Boulevard Gambetta\, NICE\, 06000\, France
CATEGORIES:Formation Tarot de Marseille
ATTACH;FMTTYPE=image/jpeg:https://www.roberta-villa.com/wp-content/uploads/2022/03/20220314_164034-1.jpg
ORGANIZER;CN="Roberta Villa":MAILTO:robertavillapsycho@gmail.com
END:VEVENT
END:VCALENDAR